BEGIN:VCALENDAR
BEGIN:VEVENT
CLASS:PUBLIC
CREATED:20260424T175452
DESCRIPTION:Concealed Carry Concepts
In this class you will improve upon the skills that you learned in the Pistol Mechanics workshop to develop additional skills and mindsets that apply to self-defense situations.  Our level 1 Pistol Mechanics course or a similar course is prerequisite.

Some of the differences that you will see in this class compared to the mechanics workshop are the following:

Practical use of mechanics such as drawing a pistol from concealment
The use of movement through the draw stroke and firing sequence
Moving while shooting
Close quarters shooting
Use of OC (pepper spray) as a defensive tool
Decision Making
Legal concepts
You should expect to spend 8 hours and expend approximately 300 rounds of ammunition in this course.  Of course, I would highly recommend you bring at least 350-400 rounds just in case.
DTEND:20230826T180000
DTSTAMP:20260424T175452
DTSTART:20230826T090000
LAST-MODIFIED:20091109T101015Z
LOCATION:Private Range, , Columbia City, IN, 46725
SUMMARY;LANGUAGE=en-us:Concealed Carry Concepts
BEGIN:VALARM
TRIGGER:-PT1440M
ACTION:DISPLAY
DESCRIPTION:Reminder
END:VALARM
END:VEVENT
END:VCALENDAR
